BEGIN:VCALENDAR
VERSION:2.0
PRODID:-//Angelsportverein Schnellrode e.V. - ECPv6.9.1//NONSGML v1.0//EN
CALSCALE:GREGORIAN
METHOD:PUBLISH
X-WR-CALNAME:Angelsportverein Schnellrode e.V.
X-ORIGINAL-URL:https://asv-schnellrode.de
X-WR-CALDESC:Veranstaltungen für Angelsportverein Schnellrode e.V.
REFRESH-INTERVAL;VALUE=DURATION:PT1H
X-Robots-Tag:noindex
X-PUBLISHED-TTL:PT1H
BEGIN:VTIMEZONE
TZID:Europe/Berlin
BEGIN:DAYLIGHT
TZOFFSETFROM:+0100
TZOFFSETTO:+0200
TZNAME:CEST
DTSTART:20230326T010000
END:DAYLIGHT
BEGIN:STANDARD
TZOFFSETFROM:+0200
TZOFFSETTO:+0100
TZNAME:CET
DTSTART:20231029T010000
END:STANDARD
END:VTIMEZONE
BEGIN:VEVENT
DTSTART;VALUE=DATE:20230501
DTEND;VALUE=DATE:20230502
DTSTAMP:20260424T102524
CREATED:20170110T114520Z
LAST-MODIFIED:20230426T144304Z
UID:271-1682899200-1682985599@asv-schnellrode.de
SUMMARY:Maifeiertag am Anglerheim Schnellrode
DESCRIPTION:Am Maifeiertag findet das jährliche Event an und um unser  Anglerheim statt. \nEs erwarten Sie Toni Clowni und sein Lustballonzoo\, Kinderschminken und das Hüpfburgenland. \nFür Ihr leibliches wohl sorgt unser Verein mit Bratwurst\, Pommes\, Fischbrötchen\, Kaffee und Kuchen sowie unser Thekenteam mit kühlen Getränken. \nWir freuen uns auf Ihren Besuch!
URL:https://asv-schnellrode.de/event/maifeiertag-am-anglerheim-schnellrode/
CATEGORIES:Öffentlich
END:VEVENT
END:VCALENDAR